BEGIN:VCALENDAR
VERSION:2.0
PRODID:-//KS AGROS Zamość - ECPv5.15.0.1//NONSGML v1.0//EN
CALSCALE:GREGORIAN
METHOD:PUBLISH
X-WR-CALNAME:KS AGROS Zamość
X-ORIGINAL-URL:https://ksagros.pl
X-WR-CALDESC:Events for KS AGROS Zamość
BEGIN:VTIMEZONE
TZID:Europe/Warsaw
BEGIN:DAYLIGHT
TZOFFSETFROM:+0100
TZOFFSETTO:+0200
TZNAME:CEST
DTSTART:20210328T010000
END:DAYLIGHT
BEGIN:STANDARD
TZOFFSETFROM:+0200
TZOFFSETTO:+0100
TZNAME:CET
DTSTART:20211031T010000
END:STANDARD
END:VTIMEZONE
BEGIN:VEVENT
DTSTART;VALUE=DATE:20210925
DTEND;VALUE=DATE:20210927
DTSTAMP:20260424T010813
CREATED:20210914T095215Z
LAST-MODIFIED:20210924T101014Z
UID:2263-1632528000-1632700799@ksagros.pl
SUMMARY:Ogólnopolski Puchar Roztocza w podnoszeniu ciężarów 2021\, Memoriał im. Tadeusza Skąmskiego
DESCRIPTION:Podziel się ...FacebookTwitterPinterestLinkedinPrintEmail
URL:https://ksagros.pl/index.php/wydarzenia/ogolnopolski-puchar-roztocza-w-podnoszeniu-ciezarow-2021-memorial-im-tadeusza-skamskiego/
LOCATION:Zespół Szkół Ponadpodstawowych Nr 5 im. Józefa Piłsudskiego w Zamościu\, ul. Szczebrzeska 102\, Zamość\, lubelskie\, 22-400\, Polska
ATTACH;FMTTYPE=image/png:https://ksagros.pl/wp-content/uploads/2021/09/Zielony-Pomaranczowy-i-Rozowy-Organiczny-Korporacyjny-Male-i-Srednie-Firmy-Zestaw-Marketingowy-Post-na-Facebooka.png
ORGANIZER;CN="KS%20Agros%20Zamo%C5%9B%C4%87":MAILTO:agrosks@gmail.com
END:VEVENT
END:VCALENDAR