BEGIN:VCALENDAR
VERSION:2.0
PRODID:-//KS AGROS Zamość - ECPv5.15.0.1//NONSGML v1.0//EN
CALSCALE:GREGORIAN
METHOD:PUBLISH
X-WR-CALNAME:KS AGROS Zamość
X-ORIGINAL-URL:https://ksagros.pl
X-WR-CALDESC:Events for KS AGROS Zamość
BEGIN:VTIMEZONE
TZID:Europe/Warsaw
BEGIN:DAYLIGHT
TZOFFSETFROM:+0100
TZOFFSETTO:+0200
TZNAME:CEST
DTSTART:20210328T010000
END:DAYLIGHT
BEGIN:STANDARD
TZOFFSETFROM:+0200
TZOFFSETTO:+0100
TZNAME:CET
DTSTART:20211031T010000
END:STANDARD
END:VTIMEZONE
BEGIN:VEVENT
DTSTART;TZID=Europe/Warsaw:20210423T080000
DTEND;TZID=Europe/Warsaw:20210425T170000
DTSTAMP:20260424T023926
CREATED:20210419T131506Z
LAST-MODIFIED:20210419T131506Z
UID:1801-1619164800-1619370000@ksagros.pl
SUMMARY:Mistrzostwa Polski Juniorek i Juniorów do lat 20 w podnoszeniu ciężarów
DESCRIPTION:Podziel się ...FacebookTwitterPinterestLinkedinPrintEmail
URL:https://ksagros.pl/index.php/wydarzenia/mistrzostwa-polski-juniorek-i-juniorow-do-lat-20-w-podnoszeniu-ciezarow/
LOCATION:Zespół Szkół Ponadpodstawowych Nr 5 im. Józefa Piłsudskiego w Zamościu\, ul. Szczebrzeska 102\, Zamość\, lubelskie\, 22-400\, Polska
END:VEVENT
END:VCALENDAR