BEGIN:VCALENDAR
VERSION:2.0
PRODID:-//KS AGROS Zamość - ECPv5.15.0.1//NONSGML v1.0//EN
CALSCALE:GREGORIAN
METHOD:PUBLISH
X-WR-CALNAME:KS AGROS Zamość
X-ORIGINAL-URL:https://ksagros.pl
X-WR-CALDESC:Events for KS AGROS Zamość
BEGIN:VTIMEZONE
TZID:Europe/Warsaw
BEGIN:DAYLIGHT
TZOFFSETFROM:+0100
TZOFFSETTO:+0200
TZNAME:CEST
DTSTART:20210328T010000
END:DAYLIGHT
BEGIN:STANDARD
TZOFFSETFROM:+0200
TZOFFSETTO:+0100
TZNAME:CET
DTSTART:20211031T010000
END:STANDARD
END:VTIMEZONE
BEGIN:VEVENT
DTSTART;VALUE=DATE:20210728
DTEND;VALUE=DATE:20210730
DTSTAMP:20260423T235734
CREATED:20210709T072851Z
LAST-MODIFIED:20210709T072851Z
UID:2041-1627430400-1627603199@ksagros.pl
SUMMARY:Międzywojewódzkie Mistrzostwa Młodzików w kolarstwie szosowym
DESCRIPTION:Podziel się ...FacebookTwitterPinterestLinkedinPrintEmail
URL:https://ksagros.pl/index.php/wydarzenia/miedzywojewodzkie-mistrzostwa-mlodzikow-w-kolarstwie-szosowym/
LOCATION:Kalinowice
ATTACH;FMTTYPE=image/jpeg:https://ksagros.pl/wp-content/uploads/2020/10/17.jpg
ORGANIZER;CN="KS%20Agros%20Zamo%C5%9B%C4%87":MAILTO:agrosks@gmail.com
END:VEVENT
END:VCALENDAR